BEGIN:VCALENDAR
VERSION:2.0
PRODID:-//Association of Pulmonary Advanced Practice Providers (APAPP) - ECPv6.15.14//NONSGML v1.0//EN
CALSCALE:GREGORIAN
METHOD:PUBLISH
X-WR-CALNAME:Association of Pulmonary Advanced Practice Providers (APAPP)
X-ORIGINAL-URL:https://www.pulmapp.com
X-WR-CALDESC:Events for Association of Pulmonary Advanced Practice Providers (APAPP)
REFRESH-INTERVAL;VALUE=DURATION:PT1H
X-Robots-Tag:noindex
X-PUBLISHED-TTL:PT1H
BEGIN:VTIMEZONE
TZID:America/Denver
BEGIN:DAYLIGHT
TZOFFSETFROM:-0700
TZOFFSETTO:-0600
TZNAME:MDT
DTSTART:20230312T090000
END:DAYLIGHT
BEGIN:STANDARD
TZOFFSETFROM:-0600
TZOFFSETTO:-0700
TZNAME:MST
DTSTART:20231105T080000
END:STANDARD
BEGIN:DAYLIGHT
TZOFFSETFROM:-0700
TZOFFSETTO:-0600
TZNAME:MDT
DTSTART:20240310T090000
END:DAYLIGHT
BEGIN:STANDARD
TZOFFSETFROM:-0600
TZOFFSETTO:-0700
TZNAME:MST
DTSTART:20241103T080000
END:STANDARD
BEGIN:DAYLIGHT
TZOFFSETFROM:-0700
TZOFFSETTO:-0600
TZNAME:MDT
DTSTART:20250309T090000
END:DAYLIGHT
BEGIN:STANDARD
TZOFFSETFROM:-0600
TZOFFSETTO:-0700
TZNAME:MST
DTSTART:20251102T080000
END:STANDARD
END:VTIMEZONE
BEGIN:VEVENT
DTSTART;TZID=America/Denver:20240412T120000
DTEND;TZID=America/Denver:20240412T130000
DTSTAMP:20260422T044930
CREATED:20240404T051723Z
LAST-MODIFIED:20250123T184129Z
UID:16158-1712923200-1712926800@www.pulmapp.com
SUMMARY:National Jewish Health Medicine Grand Rounds "Breathing Pattern Disorder" with Cori Fratelli\, MSN\, FNP-C
DESCRIPTION:Event Overview\n\nNational Jewish Health invites you to their Medicine Grand Rounds “Breathing Pattern Disorder” on Friday\, April 12\, 2024. \n\n\n \n\n\nPresented by Cori Fratelli\, MSN\, FNP-C\n\n\nDepartment of Critical Care\, Pulmonary\, and Sleep Medicine\n\n\nExercise Performance and Breathing Center at National Jewish Health\n\n\n \n\n\nIf you can’t make it in-person at Heitler Hall (on the National Jewish Health campus) you can RSVP via Zoom: https://bit.ly/3W2h7oL\n\n\nMore info here:\nFratelli_Grand Rounds 4.12.24 (1)
URL:https://www.pulmapp.com/event/national-jewish-health-medicine-grand-rounds-breathing-pattern-disorder-with-cori-fratelli-msn-fnp-c/
ATTACH;FMTTYPE=image/png:https://www.pulmapp.com/wp-content/uploads/2024/04/APAPP-Social-April-24-May-24-9.png
END:VEVENT
END:VCALENDAR